BEGIN:VCALENDAR
VERSION:2.0
PRODID:-//HUDSON&#039;S ALE HOUSE - ECPv6.15.20//NONSGML v1.0//EN
CALSCALE:GREGORIAN
METHOD:PUBLISH
X-ORIGINAL-URL:https://hudsons.pub
X-WR-CALDESC:Events for HUDSON&#039;S ALE HOUSE
REFRESH-INTERVAL;VALUE=DURATION:PT1H
X-Robots-Tag:noindex
X-PUBLISHED-TTL:PT1H
BEGIN:VTIMEZONE
TZID:Europe/London
BEGIN:DAYLIGHT
TZOFFSETFROM:+0000
TZOFFSETTO:+0100
TZNAME:BST
DTSTART:20240331T010000
END:DAYLIGHT
BEGIN:STANDARD
TZOFFSETFROM:+0100
TZOFFSETTO:+0000
TZNAME:GMT
DTSTART:20241027T010000
END:STANDARD
BEGIN:DAYLIGHT
TZOFFSETFROM:+0000
TZOFFSETTO:+0100
TZNAME:BST
DTSTART:20250330T010000
END:DAYLIGHT
BEGIN:STANDARD
TZOFFSETFROM:+0100
TZOFFSETTO:+0000
TZNAME:GMT
DTSTART:20251026T010000
END:STANDARD
BEGIN:DAYLIGHT
TZOFFSETFROM:+0000
TZOFFSETTO:+0100
TZNAME:BST
DTSTART:20260329T010000
END:DAYLIGHT
BEGIN:STANDARD
TZOFFSETFROM:+0100
TZOFFSETTO:+0000
TZNAME:GMT
DTSTART:20261025T010000
END:STANDARD
END:VTIMEZONE
BEGIN:VEVENT
DTSTART;TZID=Europe/London:20250604T190000
DTEND;TZID=Europe/London:20250604T213000
DTSTAMP:20260419T174212
CREATED:20250418T100756Z
LAST-MODIFIED:20250418T100835Z
UID:10000005-1749063600-1749072600@hudsons.pub
SUMMARY:Hudson's Quiz Night
DESCRIPTION:Our NEW pub quiz takes place on the first Wednesday of every month and features: \n\nGenius rounds to test your knowledge\nDrink prizes\nMonthly Cash-Builder round with roll-over jackpot\n\n£3 per person entry\, 7.pm start.\nTeams no larger than 6 people please! \nCLICK HERE to book your table online or call 01223 570042
URL:https://hudsons.pub/event/hudsons-quiz-night/2025-06-04/
LOCATION:The Hudson’s Ale House\, 77 High Street\, Trumpington\, Cambridgeshire\, CB2 9HZ\, United Kingdom
CATEGORIES:Games & Quizes
ATTACH;FMTTYPE=image/jpeg:https://hudsons.pub/wp-content/uploads/2025/04/Quiz-FB-Cover.jpg
END:VEVENT
BEGIN:VEVENT
DTSTART;TZID=Europe/London:20250524T193000
DTEND;TZID=Europe/London:20250524T220000
DTSTAMP:20260419T174212
CREATED:20250515T154936Z
LAST-MODIFIED:20250515T160234Z
UID:10000197-1748115000-1748124000@hudsons.pub
SUMMARY:Live Music with Ollie Stoneman
DESCRIPTION:FREE live music from Cambridge Singer and Guitarist OLLIE STONEMAN\nPlaying nostalgic pop\, soul and rock covers! \nhttps://www.instagram.com/olliestonemanguitar/ \nWe will also be having a sensational offering of authentic Greek food from Tzatziki and our usual extensive range of cask and keg beers\, wines and spirits \nFree Entry\, Start 7.30pm.\nCLICK HERE TO RESERVE YOUR TABLE!
URL:https://hudsons.pub/event/live-music-with-ollie-stoneman/
LOCATION:The Hudson’s Ale House\, 77 High Street\, Trumpington\, Cambridgeshire\, CB2 9HZ\, United Kingdom
CATEGORIES:Live Music
ATTACH;FMTTYPE=image/jpeg:https://hudsons.pub/wp-content/uploads/2025/05/Live-Music-Oli-Stoneman-24th-may-A.jpg
END:VEVENT
BEGIN:VEVENT
DTSTART;TZID=Europe/London:20250521T190000
DTEND;TZID=Europe/London:20250521T213000
DTSTAMP:20260419T174212
CREATED:20250418T104205Z
LAST-MODIFIED:20260225T140120Z
UID:10000184-1747854000-1747863000@hudsons.pub
SUMMARY:Hudson's Bingo Night!
DESCRIPTION:Join us on the 3rd Wednesday of the month when it’s eyes down for a full house\, prizes and fun!\nThree rounds\, with cash to be won for a line or full house. With bonus Rock N Roll Bingo round as well!\nJust £5 per person entry\, starts 7pm.\nBooking strongly advised.\nhttps://hudsons.pub/bookings/
URL:https://hudsons.pub/event/hudsons-bingo-night/2025-05-21/
LOCATION:The Hudson’s Ale House\, 77 High Street\, Trumpington\, Cambridgeshire\, CB2 9HZ\, United Kingdom
CATEGORIES:Games & Quizes
ATTACH;FMTTYPE=image/jpeg:https://hudsons.pub/wp-content/uploads/2025/04/Bingo-Night-Landscape-Banner.jpg
END:VEVENT
BEGIN:VEVENT
DTSTART;TZID=Europe/London:20250507T190000
DTEND;TZID=Europe/London:20250507T213000
DTSTAMP:20260419T174212
CREATED:20250418T100756Z
LAST-MODIFIED:20250418T100835Z
UID:10000004-1746644400-1746653400@hudsons.pub
SUMMARY:Hudson's Quiz Night
DESCRIPTION:Our NEW pub quiz takes place on the first Wednesday of every month and features: \n\nGenius rounds to test your knowledge\nDrink prizes\nMonthly Cash-Builder round with roll-over jackpot\n\n£3 per person entry\, 7.pm start.\nTeams no larger than 6 people please! \nCLICK HERE to book your table online or call 01223 570042
URL:https://hudsons.pub/event/hudsons-quiz-night/2025-05-07/
LOCATION:The Hudson’s Ale House\, 77 High Street\, Trumpington\, Cambridgeshire\, CB2 9HZ\, United Kingdom
CATEGORIES:Games & Quizes
ATTACH;FMTTYPE=image/jpeg:https://hudsons.pub/wp-content/uploads/2025/04/Quiz-FB-Cover.jpg
END:VEVENT
BEGIN:VEVENT
DTSTART;TZID=Europe/London:20250426T193000
DTEND;TZID=Europe/London:20250426T220000
DTSTAMP:20260419T174212
CREATED:20250327T130830Z
LAST-MODIFIED:20250327T130910Z
UID:10000001-1745695800-1745704800@hudsons.pub
SUMMARY:Live Music with Ronan Williams
DESCRIPTION:18 years old Pop Singer/Songwriter Ronan Williams will be performing a mixture of genres and pop originals.\nExcpect everything from pop\, motown\, soul\, swing\, reggae\, indie and country from the 60s to the present day. \n‘Best Young Breakthrough’ WINNER SEEA 2024\nhttps://linktr.ee/ronanwilliamsmusic \nWe will also be having a sensational offering of authentic Greek food from Tzatziki and our usual extensive range of cask and keg beers\, wines and spirits \nFree Entry\, Start 7.30pm.\nCLICK HERE TO RESERVE YOUR TABLE!
URL:https://hudsons.pub/event/live-music-with-ronan-williams/
LOCATION:The Hudson’s Ale House\, 77 High Street\, Trumpington\, Cambridgeshire\, CB2 9HZ\, United Kingdom
CATEGORIES:Live Music
ATTACH;FMTTYPE=image/jpeg:https://hudsons.pub/wp-content/uploads/2025/03/Live-Music-Ronan-26th-April-Header.jpg
END:VEVENT
BEGIN:VEVENT
DTSTART;TZID=Europe/London:20250412T200000
DTEND;TZID=Europe/London:20250412T223000
DTSTAMP:20260419T174212
CREATED:20250401T164314Z
LAST-MODIFIED:20250401T164314Z
UID:10000003-1744488000-1744497000@hudsons.pub
SUMMARY:Saturday Night Live Music: Chris Andrews
DESCRIPTION:Chris Andrews (@candrewsmusic) is a Cambridge-based singer\, songwriter\, and producer known for his energetic performances of 90s Britpop and Indie anthems. Playing songs from the likes of The Verve\, Travis\, Dodgy\, The Bluetones\, Cast\, Supergrass\, and James—plus a sprinkling of others’ tip-top tunes such as The Beatles and Pink Floyd—Chris delivers a night of singalong classics with jangly guitars and strong vocal melodies. \n@candrewsmusic facebook.com/candrewsmusic \nWith support from George Dear \nCLICK HERE TO RESERVE YOUR TABLE! \n 
URL:https://hudsons.pub/event/saturday-night-live-music-chris-andrews/
LOCATION:The Hudson’s Ale House\, 77 High Street\, Trumpington\, Cambridgeshire\, CB2 9HZ\, United Kingdom
CATEGORIES:Live Music
ATTACH;FMTTYPE=image/png:https://hudsons.pub/wp-content/uploads/2025/04/Chris_Andrews_120425.png
END:VEVENT
END:VCALENDAR